BEGIN:VCALENDAR
VERSION:2.0
PRODID:-//ChamberMaster//Event Calendar 2.0//EN
METHOD:PUBLISH
X-PUBLISHED-TTL:P3D
REFRESH-INTERVAL:P3D
CALSCALE:GREGORIAN
BEGIN:VEVENT
DTSTART:20140109T133000Z
DTEND:20140109T150000Z
X-MICROSOFT-CDO-ALLDAYEVENT:FALSE
SUMMARY:Biz Link
DESCRIPTION:Expand your network of business contacts\, generate new business leads\, and learn the most effective strategies for building your business.\n\n\n\nThis structured breakfast event includes informal networking\, brief introductions\, tips on building your business and roundtable discussion.
X-ALT-DESC;FMTTYPE=text/html:<br />\n<span style="font-family: calibri\,sans-serif\;"><span style="font-size: 11pt\;">Expand your network of business contacts\, generate new business leads\, and learn the most effective strategies for building your business.<br />\n<br />\nThis structured breakfast event includes informal networking\, brief introductions\, tips on building your business and roundtable discussion.</span></span><br />\n<br />\n
LOCATION:Mather Place of WIlmette 2801 Old Glenview Road\, Wilmette
UID:e.463.1122
SEQUENCE:3
DTSTAMP:20260420T044426Z
URL:http://wilmettechamber.chambermaster.com/events/details/biz-link-01-09-2014-1122
END:VEVENT

END:VCALENDAR
