BEGIN:VCALENDAR
VERSION:2.0
PRODID:-//ChamberMaster//Event Calendar 2.0//EN
METHOD:PUBLISH
X-PUBLISHED-TTL:P3D
REFRESH-INTERVAL:P3D
CALSCALE:GREGORIAN
BEGIN:VEVENT
DTSTART:20130110T133000Z
DTEND:20130110T150000Z
X-MICROSOFT-CDO-ALLDAYEVENT:FALSE
SUMMARY:Biz Link
DESCRIPTION:2013 Biz Link day change -- monthly on the second THURSDAY.\n\n\n\nExpand your network of business contacts\, generate new business leads\, and learn the most effective strategies for building your business.\n\n\n\nThis structured breakfast event includes informal networking\, brief introductions\, tips on building your business and roundtable discussion.\n\n\n\nMike Donnelly\, North Shore Community Bank\, will share helpful suggestions on time management.\n\n \n\nFeatured business: Glenview Costco
X-ALT-DESC;FMTTYPE=text/html:<span style="font-family: calibri\,sans-serif\;"><span style="font-size: 11pt\;"><span style="color:#b22222\;"><strong>2013 Biz Link day change -- monthly on the second THURSDAY.</strong></span><br />\n<br />\nExpand your network of business contacts\, generate new business leads\, and learn the most effective strategies for building your business.<br />\n<br />\nThis structured breakfast event includes informal networking\, brief introductions\, tips on building your business and roundtable discussion.<br />\n<br />\nMike Donnelly\, North Shore Community Bank\, will share helpful suggestions on time management.</span></span><br />\n<span style="color:maroon\;"><span style="font-family:arial\,sans-serif\;"><span style="font-size:11.0pt\;"> </span></span></span><br />\n<span style="font-family: calibri\,sans-serif\;"><span style="font-size: 11pt\;">Featured business: Glenview Costco</span></span>
LOCATION:Mather Place of WIlmette 2801 Old Glenview Road\, Wilmette
UID:e.463.1085
SEQUENCE:3
DTSTAMP:20260424T101322Z
URL:http://wilmettechamber.chambermaster.com/events/details/biz-link-01-10-2013-1085
END:VEVENT

END:VCALENDAR
