BEGIN:VCALENDAR
VERSION:2.0
PRODID:-//ChamberMaster//Event Calendar 2.0//EN
METHOD:PUBLISH
X-PUBLISHED-TTL:P3D
REFRESH-INTERVAL:P3D
CALSCALE:GREGORIAN
BEGIN:VEVENT
DTSTART:20130214T133000Z
DTEND:20130214T150000Z
X-MICROSOFT-CDO-ALLDAYEVENT:FALSE
SUMMARY:Biz Link
DESCRIPTION:2013 Biz Link day change for 2013. Now always on the second THURSDAY of the month.\n\nExpand your network of business contacts\, generate new business leads\, and learn the most effective strategies for building your business. This structured breakfast event includes informal networking\, brief introductions\, tips on building your business and roundtable discussion.\n\n\n\nFebruary 14th Topic\, presented by Deb Guy\, Executive Director of The Women's Exchange:\n\nScience has now proven that GRATITUDE has the biggest effect on living and the quality of life. Simply giving thanks can be as easy as saying Thank You.  Yet\, making a decision to focus on living in gratitude\, can change your entire outlook on life.  We also know\, when extending gratitude you enrich the lives of others.\n\nJoin us to learn the top 5 reasons and ways.... how practicing Acts of Gratitude will make a difference for you and others and enhance your business relationships.  We will even conduct a test of our own!
X-ALT-DESC;FMTTYPE=text/html:<span style="font-family: calibri\, sans-serif\;"><span style="font-size: 11pt\;"><span style="color: rgb(178\, 34\, 34)\;"><strong>2013 Biz Link day change for 2013. Now always on the second THURSDAY of the month.</strong></span><br />\n<span style="font-size: 12px\;"><span style="font-family: verdana\;">Expand your network of business contacts\, generate new business leads\, and learn the most effective strategies for building your business. This structured breakfast event includes informal networking\, brief introductions\, tips on building your business and roundtable discussion.<br />\n<br />\nFebruary 14th&nbsp\;Topic\, presented by Deb Guy\, Executive Director of The Women&#39\;s Exchange:<br />\nScience has now proven that GRATITUDE has the biggest effect on living and the quality of life. Simply giving thanks can be as easy as saying Thank You. &nbsp\;Yet\, making a decision to focus on living in gratitude\, can change your entire outlook on life. &nbsp\;We also know\, when extending gratitude you enrich the lives of others.<br />\nJoin us to learn the top 5 reasons and ways.... how practicing <em>Acts of Gratitude </em>will make a difference for you and others <span style="background: yellow\;"><span style="background-color: rgb(255\, 255\, 255)\;">and enhance your business relationships</span></span><span style="background-color: rgb(255\, 255\, 255)\;">.</span> &nbsp\;We will even conduct a test of our own!<br />\n&nbsp\;&nbsp\;</span></span></span></span><br />\n
LOCATION:Mather Place of WIlmette 2801 Old Glenview Road\, Wilmette
UID:e.463.1111
SEQUENCE:3
DTSTAMP:20260424T101322Z
URL:http://wilmettechamber.chambermaster.com/events/details/biz-link-02-14-2013-1111
END:VEVENT

END:VCALENDAR
