BEGIN:VCALENDAR
VERSION:2.0
PRODID:-//ChamberMaster//Event Calendar 2.0//EN
METHOD:PUBLISH
X-PUBLISHED-TTL:P3D
REFRESH-INTERVAL:P3D
CALSCALE:GREGORIAN
BEGIN:VEVENT
DTSTART:20140313T123000Z
DTEND:20140313T140000Z
X-MICROSOFT-CDO-ALLDAYEVENT:FALSE
SUMMARY:Biz Link
DESCRIPTION:Expand your network of business contacts\, generate new business leads\, and learn the most effective strategies for building your business.\n\n\n\nThis  breakfast event includes informal brief introductions and networking.
X-ALT-DESC;FMTTYPE=text/html:<span style="font-family: calibri\,sans-serif\;"><span style="font-size: 11pt\;">Expand your network of business contacts\, generate new business leads\, and learn the most effective strategies for building your business.<br />\n<br />\nThis&nbsp\; breakfast event includes informal brief introductions and networking.</span></span><br />\n<br />\n<br />\n&nbsp\;
LOCATION:Mather Place of Wilmette 2801 Old Glenview Road Wilmette
UID:e.463.1502
SEQUENCE:3
DTSTAMP:20260422T072642Z
URL:http://wilmettechamber.chambermaster.com/events/details/biz-link-03-13-2014-1502
END:VEVENT

END:VCALENDAR
