BEGIN:VCALENDAR
VERSION:2.0
PRODID:-//ChamberMaster//Event Calendar 2.0//EN
METHOD:PUBLISH
X-PUBLISHED-TTL:P3D
REFRESH-INTERVAL:P3D
CALSCALE:GREGORIAN
BEGIN:VEVENT
DTSTART:20130509T123000Z
DTEND:20130509T140000Z
X-MICROSOFT-CDO-ALLDAYEVENT:FALSE
SUMMARY:Biz Link
DESCRIPTION:2013 Biz Link day change -- monthly on the second THURSDAY.\n\n\n\n	COLD CALLING FOR FUN AND PROFIT\n\n	By Rick Moskovitz\, President\, A-Plus Pest Control\, Inc.\n\n	Vice President\, Plus Natural Solutions Worldwide\, Inc.\n\n\nCold calling. Oh no! Who wants to cold call? I'll never do that? I hate cold calling! I'd\n\nrather work from leads! I'm afraid to cold call! It's so hard to get past the receptionist! Do these words sound familiar? Learn from Rick Moskovitz\, a pro when it comes to "COLD CALLING".\n\n\n\nEnjoy breakfast\, networking and learning something new!
X-ALT-DESC;FMTTYPE=text/html:<div style="text-align: center\;">\n	<span style="font-family: calibri\,sans-serif\;"><span style="font-size: 11pt\;"><span style="color:#b22222\;"><strong>2013 Biz Link day change -- monthly on the second THURSDAY.</strong></span></span></span></div>\n<br />\n<div style="text-align: center\;">\n	<span style="font-size:14px\;"><span style="color: rgb(0\, 0\, 255)\;"><strong>COLD CALLING FOR FUN AND PROFIT</strong></span></span></div>\n<div style="text-align: center\;">\n	<span style="font-size:14px\;"><span style="color: rgb(0\, 0\, 255)\;">By Rick Moskovitz\, President\, A-Plus Pest Control\, Inc.<br />\n	Vice President\, Plus Natural Solutions Worldwide\, Inc.</span></span></div>\n<br />\nCold calling. Oh no! Who wants to cold call? I&rsquo\;ll never do that? I hate cold calling! I&rsquo\;d<br />\nrather work from leads! I&rsquo\;m afraid to cold call! It&rsquo\;s so hard to get past the receptionist! Do these words sound familiar? Learn from Rick Moskovitz\, a pro when it comes to &quot\;COLD CALLING&quot\;.<br />\n<br />\nEnjoy breakfast\, networking and learning something new!<br />\n<br />\n<br />\n<br />\n
LOCATION:Mather Place of WIlmette 2801 Old Glenview Road\, Wilmette
UID:e.463.1114
SEQUENCE:3
DTSTAMP:20260422T072642Z
URL:http://wilmettechamber.chambermaster.com/events/details/biz-link-05-09-2013-1114
END:VEVENT

END:VCALENDAR
