BEGIN:VCALENDAR
VERSION:2.0
PRODID:-//ChamberMaster//Event Calendar 2.0//EN
METHOD:PUBLISH
X-PUBLISHED-TTL:P3D
REFRESH-INTERVAL:P3D
CALSCALE:GREGORIAN
BEGIN:VEVENT
DTSTART:20130711T123000Z
DTEND:20130711T140000Z
X-MICROSOFT-CDO-ALLDAYEVENT:FALSE
SUMMARY:Biz Link
DESCRIPTION:2013 Biz Link day change -- monthly on the second THURSDAY.\n\n\n\n	 Understanding the Affordable Care Act (aka Obama care) \n	\n		 Implications for Businesses and Individuals \n	\n		Presentation/Discussion/Q & A\n\n		Presented by Randy Sable\, president of Total Benefit Services\, Inc.\n	\n		\n\n		Randy will discuss:\n	\n		\n			The 2014 timeline and changes that are due to occur as of 1/1/2014 and beyond\n		\n			The implementation of Health Insurance Exchanges\, Essential Benefits\, Community Rating\, new taxes and fees\, etc.  \n		\n			What individuals and businesses may expect in 2014\n		\n			How rates will be effected \n		\n			Suggestions as to how business owners and individuals may be proactive and save significant dollars by making the correct choices in advance of 1/1/2014\n	\n	\n		 \n	\n		Randy Sable has owned and operated Total Benefit Services\, Inc\, for more than 30 years and has specialized in working with individuals and small to midsized businesses assisting them in addressing their employee benefits needs.  These include health insurance\, dental\, vision\, life and disability as well as long term care and Medicare Supplements.  He has an MBA in finance and has been a financial planner as well as a certified retirement coach.  Randy has been a member of the Wilmette/Kenilworth Chamber of Commerce and many other near  North Shore chambers for the past 20 years and continues to offer his services to local businesses and individuals.\n\n		 \n\nExpand your network of business contacts\, generate new business leads\, and learn the most effective strategies for building your business. This structured breakfast event includes informal networking\, brief introductions\, tips on building your business and roundtable discussion.
X-ALT-DESC;FMTTYPE=text/html:<div style="text-align: center\;">\n	<span style="font-family: calibri\,sans-serif\;"><span style="font-size: 11pt\;"><span style="color:#b22222\;"><strong>2013 Biz Link day change -- monthly on the second THURSDAY.</strong></span></span></span></div>\n<br />\n<div style="text-align: center\;">\n	<span style="font-family:verdana\;"><span style="font-size: 14px\;"><strong>&nbsp\;<em>Understanding the Affordable Care Act (aka Obama care) </em></strong></span></span>\n	<div style="margin-bottom: 0.0001pt\;">\n		<span style="font-family:verdana\;"><span style="font-size: 14px\;"><strong><em>&nbsp\;Implications for Businesses and Individuals</em> </strong></span></span></div>\n	<div style="margin-bottom: 0.0001pt\;">\n		<span style="font-family:verdana\;"><span style="font-size: 14px\;"><strong>Presentation/Discussion/Q &amp\; A</strong><br />\n		<strong>Presented by Randy Sable\, president of Total Benefit Services\, Inc.</strong></span></span></div>\n	<div style="margin-bottom: 0.0001pt\; text-align: left\;">\n		<br />\n		<strong>Randy will discuss:</strong></div>\n	<ul>\n		<li style="margin-top: 0in\; margin-right: 0in\; margin-bottom: 0.0001pt\; text-align: left\;">\n			<span style="font-family:verdana\;">The 2014 timeline and changes that are due to occur as of 1/1/2014 and beyond</span></li>\n		<li style="margin-top: 0in\; margin-right: 0in\; margin-bottom: 0.0001pt\; text-align: left\;">\n			<span style="font-family:verdana\;">The implementation of Health Insurance Exchanges\, Essential Benefits\, Community Rating\, new taxes and fees\, etc.&nbsp\; </span></li>\n		<li style="margin-top: 0in\; margin-right: 0in\; margin-bottom: 0.0001pt\; text-align: left\;">\n			<span style="font-family:verdana\;">What individuals and businesses may expect in 2014</span></li>\n		<li style="margin-top: 0in\; margin-right: 0in\; margin-bottom: 0.0001pt\; text-align: left\;">\n			<span style="font-family:verdana\;">How rates will be effected </span></li>\n		<li style="margin-top: 0in\; margin-right: 0in\; margin-bottom: 0.0001pt\; text-align: left\;">\n			<span style="font-family:verdana\;">Suggestions as to how business owners and individuals may be proactive and save significant dollars by making the correct choices in advance of 1/1/2014</span></li>\n	</ul>\n	<div style="text-align: left\;">\n		<span style="font-family:verdana\;">&nbsp\;</span></div>\n	<div style="text-align: left\;">\n		<span style="font-family:verdana\;">Randy Sable has owned and operated <strong>Total Benefit Services\, Inc\,</strong> for more than 30 years and has specialized in working with individuals and small to midsized businesses assisting them in addressing their employee benefits needs.&nbsp\; These include health insurance\, dental\, vision\, life and disability as well as long term care and Medicare Supplements.&nbsp\; He has an MBA in finance and has been a financial planner as well as a certified retirement coach.&nbsp\; Randy has been a member of the Wilmette/Kenilworth Chamber of Commerce and many other near&nbsp\; North Shore chambers for the past 20 years and continues to offer his services to local businesses and individuals.</span><br />\n		&nbsp\;</div>\n</div>\n<span style="font-size:14px\;"><span style="font-family: calibri\,sans-serif\;"><span style="font-family: verdana\;">Expand your network of business contacts\, generate new business leads\, and learn the most effective strategies for building your business. This structured breakfast event includes informal networking\, brief introductions\, tips on building your business and roundtable discussion.</span></span></span>
LOCATION:Mather Place of WIlmette 2801 Old Glenview Road\, Wilmette
UID:e.463.1116
SEQUENCE:3
DTSTAMP:20260426T013146Z
URL:http://wilmettechamber.chambermaster.com/events/details/biz-link-07-11-2013-1116
END:VEVENT

END:VCALENDAR
