BEGIN:VCALENDAR
VERSION:2.0
PRODID:-//ChamberMaster//Event Calendar 2.0//EN
METHOD:PUBLISH
X-PUBLISHED-TTL:P3D
REFRESH-INTERVAL:P3D
CALSCALE:GREGORIAN
BEGIN:VEVENT
DTSTART:20130808T123000Z
DTEND:20130808T140000Z
X-MICROSOFT-CDO-ALLDAYEVENT:FALSE
SUMMARY:Biz Link
DESCRIPTION:2013 Biz Link day change -- monthly on the second THURSDAY.\n\n\n\nExpand your network of business contacts\, generate new business leads\, and learn the most effective strategies for building your business.\n\n\n\nThis structured breakfast event includes informal networking\, brief introductions\, tips on building your business and roundtable discussion.
X-ALT-DESC;FMTTYPE=text/html:<span style="font-family: calibri\,sans-serif\;"><span style="font-size: 11pt\;"><span style="color:#b22222\;"><strong>2013 Biz Link day change -- monthly on the second THURSDAY.</strong></span><br />\n<br />\nExpand your network of business contacts\, generate new business leads\, and learn the most effective strategies for building your business.<br />\n<br />\nThis structured breakfast event includes informal networking\, brief introductions\, tips on building your business and roundtable discussion.</span></span><br />\n<br />\n
LOCATION:Mather Place of Wilmett 2801 Old Glenview Rd Wilmette\, IL 60091 Normal 0 false false false EN-US X-NONE X-NONE /* Style Definitions */ table.MsoNormalTable {mso-style-name:"Table Normal"\; mso-tstyle-rowband-size:0\; mso-tstyle-colband-size:0\; mso-style-noshow:yes\; mso-style-priority:99\; mso-style-parent:""\; mso-padding-alt:0in 5.4pt 0in 5.4pt\; mso-para-margin-top:0in\; mso-para-margin-right:0in\; mso-para-margin-bottom:10.0pt\; mso-para-margin-left:0in\; line-height:115%\; mso-pagination:widow-orphan\; font-size:11.0pt\; font-family:"Calibri"\,"sans-serif"\; mso-ascii-font-family:Calibri\; mso-ascii-theme-font:minor-latin\; mso-hansi-font-family:Calibri\; mso-hansi-theme-font:minor-latin\;}
UID:e.463.1117
SEQUENCE:3
DTSTAMP:20260425T115029Z
URL:http://wilmettechamber.chambermaster.com/events/details/biz-link-08-08-2013-1117
END:VEVENT

END:VCALENDAR
