BEGIN:VCALENDAR
VERSION:2.0
PRODID:-//ChamberMaster//Event Calendar 2.0//EN
METHOD:PUBLISH
X-PUBLISHED-TTL:P3D
REFRESH-INTERVAL:P3D
CALSCALE:GREGORIAN
BEGIN:VEVENT
DTSTART:20121114T133000Z
DTEND:20121114T150000Z
X-MICROSOFT-CDO-ALLDAYEVENT:FALSE
SUMMARY:Biz Link
DESCRIPTION:Continental breakfast event\, informal networking\, brief introductions and a speaker.\n\n\n\nThis month join ServiceSpeaks as Stephanie Leese Emrich demonstrates how to leverage communication techniques in our everyday workplace. Offering tips for ultimate service\, learn how to:\n\nConverse in today's service-speak to promote your thoughts and politely persuade. "Faux Pas" No More...Lessen your mistakes when dealing with prospects and associates. Use standards from Five Star Hotels to ensure you are invited for a repeat performance.
X-ALT-DESC;FMTTYPE=text/html:<span style="font-family: calibri\,sans-serif\;"><span style="font-size: 11pt\;">Continental breakfast event\, informal networking\, brief introductions and a speaker.<br />\n<br />\nThis month join ServiceSpeaks as Stephanie Leese Emrich demonstrates how to leverage communication techniques in our everyday workplace. Offering tips for ultimate service\, learn how to:<br />\nConverse in today&#39\;s service-speak to promote your thoughts and politely persuade. &quot\;Faux Pas&quot\; No More...Lessen your mistakes when dealing with prospects and associates. Use standards from Five Star Hotels to ensure you are invited for a repeat performance.</span></span><br />\n<br />\n<br />\n<br />\n<br />\n
LOCATION:Mather Place of Wilmette 2801 Old Glenview Road Wilmette
UID:e.463.1003
SEQUENCE:3
DTSTAMP:20260425T000619Z
URL:http://wilmettechamber.chambermaster.com/events/details/biz-link-11-14-2012-1003
END:VEVENT

END:VCALENDAR
