BEGIN:VCALENDAR
VERSION:2.0
PRODID:-//ChamberMaster//Event Calendar 2.0//EN
METHOD:PUBLISH
X-PUBLISHED-TTL:P3D
REFRESH-INTERVAL:P3D
CALSCALE:GREGORIAN
BEGIN:VEVENT
DTSTART:20130309T190000Z
DTEND:20130309T230000Z
X-MICROSOFT-CDO-ALLDAYEVENT:FALSE
SUMMARY:Going Green Matters
DESCRIPTION:
X-ALT-DESC;FMTTYPE=text/html:
LOCATION:
UID:e.463.1469
SEQUENCE:3
DTSTAMP:20260426T005739Z
URL:http://wilmettechamber.chambermaster.com/events/details/going-green-matters-03-09-2013-1469
END:VEVENT

END:VCALENDAR
