BEGIN:VCALENDAR
VERSION:2.0
PRODID:-//ChamberMaster//Event Calendar 2.0//EN
METHOD:PUBLISH
X-PUBLISHED-TTL:P3D
REFRESH-INTERVAL:P3D
CALSCALE:GREGORIAN
BEGIN:VEVENT
DTSTART:20130213T133000Z
DTEND:20130213T153000Z
X-MICROSOFT-CDO-ALLDAYEVENT:FALSE
SUMMARY:Mega Connect
DESCRIPTION:Mega Connect\n\n	Multi-Chamber Networking Breakfast\n\n	\n\n	Multiply your networking potential! Members looking for a productive networking experience will enjoy the structured format of this program\, which gives each participant an opportunity to speak to a receptive audience about his/her company's products and services. Attendees will have the chance to promote their businesses to an expanded audience. \n\n	\n\n	The event will begin with informal networking over breakfast. After that\, the group will be divided into small groups at assigned tables where everyone will give 2-minute presentations on their companies. Following will be an additional presentation to a second and third group of participants. In addition\, everyone will receive a contact list of pre-registered participants. Don't miss this unique opportunity to expand your reach and resources! \n\n	Please note that table assignments will begin promptly at 7:45 a.m. If you are not there by 7:45 a.m.\, your space will be given away to another participant and you will need to check-in at the "Late Registration Table." Please arrive on time to get the most out of your networking experience!
X-ALT-DESC;FMTTYPE=text/html:<div style="color: gray\;">\n	<strong><span style="font-size: 18px\;"><span style="font-family: tahoma\;">Mega Connect<br />\n	Multi-Chamber Networking Breakfast</span></span></strong><br />\n	<br />\n	<span style="font-family: tahoma\; font-size: 14px\;">Multiply your networking potential! Members looking for a productive networking experience will enjoy the structured format of this program\, which gives each participant an opportunity to speak to a receptive audience about his/her company&rsquo\;s products and services. Attendees will have the chance to promote their businesses to an </span><u style="font-family: tahoma\; font-size: 14px\;">expanded</u><span style="font-family: tahoma\; font-size: 14px\;"> audience.&nbsp\;</span><br />\n	<br />\n	<span style="font-size: 14px\;"><span style="font-family: tahoma\;">The event will begin with informal networking over breakfast. After that\, the group will be divided into small groups at assigned tables where everyone will give 2-minute presentations on their companies. Following will be an additional presentation to a second and third group of participants. In addition\, everyone will receive a contact list of pre-registered participants. Don&rsquo\;t miss this unique opportunity to expand your reach and resources! </span></span><br />\n	<span style="font-family: franklin gothic medium\, sans-serif\;"><span style="font-size: 10pt\;">Please note that table assignments will begin <strong><u>promptly at 7:45 a.m</u>.</strong> If you are not there by 7:45 a.m.\, <strong>your space will be given away</strong> to another participant and you will need to check-in at the &ldquo\;Late Registration Table.&rdquo\; <u>Please</u> arrive on time to get the most out of your networking experience!</span></span><br />\n	<span _fck_bookmark="1" style="display: none\;">&nbsp\;</span></div>\n
LOCATION:The Holiday Inn Northshore 5300 W Touhy Ave Skokie\, IL
UID:e.463.1123
SEQUENCE:3
DTSTAMP:20260424T132555Z
URL:http://wilmettechamber.chambermaster.com/events/details/mega-connect-02-13-2013-1123
END:VEVENT

END:VCALENDAR
