BEGIN:VCALENDAR
VERSION:2.0
PRODID:-//ChamberMaster//Event Calendar 2.0//EN
METHOD:PUBLISH
X-PUBLISHED-TTL:P3D
REFRESH-INTERVAL:P3D
CALSCALE:GREGORIAN
BEGIN:VEVENT
DTSTART:20130217T013000Z
DTEND:20130323T200000Z
X-MICROSOFT-CDO-ALLDAYEVENT:FALSE
SUMMARY:Skooled: A Study in Circus
DESCRIPTION:The Actors Gymnasium presents Skooled:  A Study in Circus.  Featuring the work of Chicago clown Dean Evans\, Co-Artistic Directors Larry DiStasi\, Sylvia Hernandez-DiStasi and an amazing team of designers and performers\, this circus production explores the school of hard knocks.  Life's lessons come in many forms.  And some people always end up in detention.   This year's winter circus spectacular takes audiences on a journey of eccentric clowning\, aerial acrobatics\, live music\, and devilish pranks.\n\n	Runs February 16 - March 23\, 2013\n\n	Fridays 7:30pm\n\n	Saturdays 4:30 and 7:30pm (No 4:30 show on Feb 16)\n\n	Sundays 3:00pm
X-ALT-DESC;FMTTYPE=text/html:<p>\n	The Actors Gymnasium presents <strong><em>Skooled:&nbsp\; A Study in Circus</em></strong>. &nbsp\;Featuring the work of Chicago clown Dean Evans\, Co-Artistic Directors Larry DiStasi\, Sylvia Hernandez-DiStasi and an amazing team of designers and performers\, this circus production explores the school of hard knocks.&nbsp\; Life&#39\;s lessons come in many forms.&nbsp\; And some people always end up in detention.&nbsp\;&nbsp\; This year&#39\;s winter circus spectacular takes audiences on a journey of eccentric clowning\, aerial acrobatics\, live music\, and devilish pranks.</p>\n<p>\n	<strong>Runs February 16 - March 23\, 2013</strong></p>\n<p>\n	<strong>Fridays 7:30pm</strong></p>\n<p>\n	<strong>Saturdays 4:30 and 7:30pm</strong> (No 4:30 show on Feb 16)</p>\n<p>\n	<strong>Sundays 3:00pm</strong></p>\n
LOCATION:The Actors Gymnasium 927 Noyes Street Evanston\, IL 60201
UID:e.463.1134
SEQUENCE:3
DTSTAMP:20260424T075959Z
URL:http://wilmettechamber.chambermaster.com/events/details/skooled-a-study-in-circus-02-16-2013-1134
END:VEVENT

END:VCALENDAR
