BEGIN:VCALENDAR
VERSION:2.0
PRODID:-//ChamberMaster//Event Calendar 2.0//EN
METHOD:PUBLISH
X-PUBLISHED-TTL:P3D
REFRESH-INTERVAL:P3D
CALSCALE:GREGORIAN
BEGIN:VEVENT
DTSTART;VALUE=DATE:20121226
DTEND;VALUE=DATE:20130105
TRANSP:TRANSPARENT
X-MICROSOFT-CDO-ALLDAYEVENT:TRUE
SUMMARY:Winter Camp Session 1&2
DESCRIPTION:These Two 3-Day Sessions are perfect for young performers who want to strengthen\, stretch and flex their creative muscles with circus\, drama and movement!\n\nAges 9-14
X-ALT-DESC;FMTTYPE=text/html:These Two 3-Day Sessions are perfect for young performers who want to strengthen\, stretch and flex their creative muscles with circus\, drama and movement!<br />\nAges 9-14
LOCATION:The Actors Gymnasium 927 Noyes Street Evanston\, IL 60201
UID:e.463.1080
SEQUENCE:3
DTSTAMP:20260425T115029Z
URL:http://wilmettechamber.chambermaster.com/events/details/winter-camp-session-1-2-12-26-2012-1080
END:VEVENT

END:VCALENDAR
